BEGIN:VCALENDAR
VERSION:2.0
PRODID:-//КДАіС
CALSCALE:GREGORIAN
METHOD:PUBLISH
X-WR-CALNAME:КДАіС
X-ORIGINAL-URL:https://kdais.kiev.ua/event/%d0%92-%d0%90%d0%ba%d0%b0%d0%b4%d0%b5%d0%bc%d1%96%d1%97-%d0%b7-%d0%bb%d0%b5%d0%ba%d1%86%d1%96%d1%94%d1%8e-%d0%b2%d0%b8%d1%81%d1%82%d1%83%d0%bf%d0%b8%d0%b2-%d0%b2%d0%b8%d0%ba%d0%bb%d0%b0%d0%b4%d0%b0/
X-WR-CALDESC:В Академії з лекцією виступив викладач університету з Мальти
BEGIN:VEVENT
DTSTART:20180423T020000
DTEND:
SUMMARY:В Академії з лекцією виступив викладач університету з Мальти
DESCRIPTION:Кевін Шембрі, викладач Канонічного права університету Мальти виступив з лекцією для 4-го класу Семінарії про спільне та розбіжне у шлюбному праві Західної та Східної Церков.
LOCATION:
END:VEVENT
END:VCALENDAR
