BEGIN:VCALENDAR
VERSION:2.0
PRODID:-//КДАіС
CALSCALE:GREGORIAN
METHOD:PUBLISH
X-WR-CALNAME:КДАіС
X-ORIGINAL-URL:https://kdais.kiev.ua/event/%d0%92-%d0%9a%d0%94%d0%90-%d0%b2%d0%b8%d1%81%d1%82%d1%83%d0%bf%d0%b8%d0%b2-%d0%b7-%d0%bb%d0%b5%d0%ba%d1%86%d1%96%d1%8f%d0%bc%d0%b8-%d0%bf%d1%80%d0%be%d1%84%d0%b5%d1%81%d0%be%d1%80-%d0%92%d0%b8%d1%89/
X-WR-CALDESC:В КДА виступив з лекціями професор Вищої Церковної Академії м. Салоніки
BEGIN:VEVENT
DTSTART:20180423T203000
DTEND:20180423T203000
SUMMARY:В КДА виступив з лекціями професор Вищої Церковної Академії м. Салоніки
DESCRIPTION:З благословення ректора Академії єпископа Білогородського Сильвестра, доктор богослов'я Ніколаос Койос прочитав лекції з біоетики для студентів Київських духовних шкіл.
LOCATION:
END:VEVENT
END:VCALENDAR
