BEGIN:VCALENDAR
VERSION:2.0
PRODID:-//КДАіС
CALSCALE:GREGORIAN
METHOD:PUBLISH
X-WR-CALNAME:КДАіС
X-ORIGINAL-URL:https://kdais.kiev.ua/event/%d0%9f%d1%80%d0%b5%d0%b4%d1%81%d1%82%d0%b0%d0%b2%d0%bd%d0%b8%d0%ba-%d0%9a%d0%94%d0%90-%d0%b2%d0%b7%d1%8f%d0%b2-%d1%83%d1%87%d0%b0%d1%81%d1%82%d1%8c-%d1%83-%d0%bd%d0%b0%d1%83%d0%ba%d0%be%d0%b2%d0%be/
X-WR-CALDESC:Представник КДА взяв участь у науковому форумі в Києві
BEGIN:VEVENT
DTSTART:20180425T203000
DTEND:20180425T203000
SUMMARY:Представник КДА взяв участь у науковому форумі в Києві
DESCRIPTION:З благословення ректора Академії єпископа Білогородського Сильвестра, аспірант КДА ієромонах Афанасій (Стрельцов) взяв участь у наукових читаннях присвячених пам'яті видатного вченого-економіста професора В.П. Череваня.
LOCATION:
END:VEVENT
END:VCALENDAR
