BEGIN:VCALENDAR
VERSION:2.0
PRODID:-//КДАіС
CALSCALE:GREGORIAN
METHOD:PUBLISH
X-WR-CALNAME:КДАіС
X-ORIGINAL-URL:https://kdais.kiev.ua/event/%d0%9f%d1%80%d0%b5%d0%b4%d1%81%d1%82%d0%b0%d0%b2%d0%bd%d0%b8%d0%ba%d0%b8-%d0%9a%d0%94%d0%90-%d0%b2%d0%b7%d1%8f%d0%bb%d0%b8-%d1%83%d1%87%d0%b0%d1%81%d1%82%d1%8c-%d1%83-%d0%9c%d1%96%d0%b6%d0%bd%d0%b0/
X-WR-CALDESC:Представники КДА взяли участь у Міжнародній науковій конференції
BEGIN:VEVENT
DTSTART:20180427T203000
DTEND:20180427T203000
SUMMARY:Представники КДА взяли участь у Міжнародній науковій конференції
DESCRIPTION:З благословення ректора Академії єпископа Білогородського Сильвестра, аспірант КДА ієромонах Пантелеімон (Мельник) та студент ІІ магістратури КДА Клюйко Володимир взяли участь у щорічній Міжнародній науковій конференції "Дні науки філософського факультету 2018" в КНУ ім. Т. Шевченка.
LOCATION:
END:VEVENT
END:VCALENDAR
