BEGIN:VCALENDAR
VERSION:2.0
PRODID:-//КДАіС
CALSCALE:GREGORIAN
METHOD:PUBLISH
X-WR-CALNAME:КДАіС
X-ORIGINAL-URL:https://kdais.kiev.ua/event/%d0%9d%d0%b5%d0%b4%d1%96%d0%bb%d1%8f-4-%d1%82%d0%b0-%d0%bf%d1%96%d1%81%d0%bb%d1%8f-%d0%9f%d0%b0%d1%81%d1%85%d0%b8-%d0%bf%d1%80%d0%be-%d1%80%d0%be%d0%b7%d1%81%d0%bb%d0%b0%d0%b1%d0%bb%d0%b5%d0%bd%d0%be/
X-WR-CALDESC:Неділя 4-та після Пасхи, про розслабленого
BEGIN:VEVENT
DTSTART:20180429T203000
DTEND:20180429T203000
SUMMARY:Неділя 4-та після Пасхи, про розслабленого
DESCRIPTION:Керуючий справами Української Православної Церкви митрополит Бориспільський і Броварський Антоній очолив Божественну літургію в Академічному храмі на честь Різдва Божої Матері.
LOCATION:
END:VEVENT
END:VCALENDAR
