BEGIN:VCALENDAR
VERSION:2.0
PRODID:-//КДАіС
CALSCALE:GREGORIAN
METHOD:PUBLISH
X-WR-CALNAME:КДАіС
X-ORIGINAL-URL:https://kdais.kiev.ua/event/%d0%9d%d0%b5%d0%b4%d1%96%d0%bb%d1%8f-5-%d1%82%d0%b0-%d0%bf%d1%96%d1%81%d0%bb%d1%8f-%d0%9f%d0%b0%d1%81%d1%85%d0%b8-%d0%bf%d1%80%d0%be-%d1%81%d0%b0%d0%bc%d0%b0%d1%80%d1%8f%d0%bd%d0%b8%d0%bd%d1%8e/
X-WR-CALDESC:Неділя 5-та після Пасхи, про самаряниню
BEGIN:VEVENT
DTSTART:20180506T040000
DTEND:
SUMMARY:Неділя 5-та після Пасхи, про самаряниню
DESCRIPTION:Ректор КДА єпископ Білогородський Сильвестр взяв участь у соборному богослужінні у Свято-Успенському храмі м. Києва, що на Позняках.
LOCATION:
END:VEVENT
END:VCALENDAR
