BEGIN:VCALENDAR
VERSION:2.0
PRODID:-//КДАіС
CALSCALE:GREGORIAN
METHOD:PUBLISH
X-WR-CALNAME:КДАіС
X-ORIGINAL-URL:https://kdais.kiev.ua/event/%d0%a1%d0%be%d0%b1%d0%be%d1%80-%d1%81%d0%bb%d0%b0%d0%b2%d0%bd%d0%b8%d1%85-%d1%96-%d0%b2%d1%81%d0%b5%d1%85%d0%b2%d0%b0%d0%bb%d1%8c%d0%bd%d0%b8%d1%85-12-%d1%82%d0%b8-%d0%b0%d0%bf%d0%be%d1%81%d1%82%d0%be/
X-WR-CALDESC:Собор славних і всехвальних 12-ти апостолів
BEGIN:VEVENT
DTSTART:20180713T203000
DTEND:20180713T203000
SUMMARY:Собор славних і всехвальних 12-ти апостолів
DESCRIPTION:Ректор КДА єпископ Білогородський Сильвестр взяв участь у соборному богослужінні в Свято-Михайлівському храмі села Білогородка Київської області.
LOCATION:
END:VEVENT
END:VCALENDAR
