BEGIN:VCALENDAR
VERSION:2.0
PRODID:-//КДАіС
CALSCALE:GREGORIAN
METHOD:PUBLISH
X-WR-CALNAME:КДАіС
X-ORIGINAL-URL:https://kdais.kiev.ua/event/%d0%a0%d0%b5%d0%ba%d1%82%d0%be%d1%80-%d0%9a%d0%94%d0%90-%d0%b2%d0%b7%d1%8f%d0%b2-%d1%83%d1%87%d0%b0%d1%81%d1%82%d1%8c-%d1%83-%d0%9c%d1%96%d0%b6%d0%bd%d0%b0%d1%80%d0%be%d0%b4%d0%bd%d1%96%d0%b9-%d0%ba/
X-WR-CALDESC:Ректор КДА взяв участь у Міжнародній конференції «Києво-Печерська Лавра – Афон – Єрусалим: єдність крізь віки»
BEGIN:VEVENT
DTSTART:20180720T083000
DTEND:
SUMMARY:Ректор КДА взяв участь у Міжнародній конференції «Києво-Печерська Лавра – Афон – Єрусалим: єдність крізь віки»
DESCRIPTION:Конференцію присвячено 30-річчю відродження чернечого життя в Києво-Печерській Лаврі, 1035-річчю від дня народження «отця давньоруського чернецтва» прп. Антонія Печерського та 1030-річчю Хрещення Київської Русі.
LOCATION:
END:VEVENT
END:VCALENDAR
