BEGIN:VCALENDAR
VERSION:2.0
PRODID:-//КДАіС
CALSCALE:GREGORIAN
METHOD:PUBLISH
X-WR-CALNAME:КДАіС
X-ORIGINAL-URL:https://kdais.kiev.ua/event/%d0%92%d1%96%d0%b4%d0%b1%d1%83%d0%bb%d0%be%d1%81%d1%8c-%d0%b7%d0%b0%d1%81%d1%96%d0%b4%d0%b0%d0%bd%d0%bd%d1%8f-%d0%92%d0%b8%d1%85%d0%be%d0%b2%d0%bd%d0%be%d1%97-%d1%80%d0%b0%d0%b4%d0%b8-%d0%9a%d0%94/
X-WR-CALDESC:Відбулось засідання Виховної ради КДАіС
BEGIN:VEVENT
DTSTART:20180906T050000
DTEND:
SUMMARY:Відбулось засідання Виховної ради КДАіС
DESCRIPTION:Ректор Київських духовних шкіл єпископ Білогородський Сильвестр очолив засідання Виховної ради.

LOCATION:
END:VEVENT
END:VCALENDAR
