BEGIN:VCALENDAR
VERSION:2.0
PRODID:-//КДАіС
CALSCALE:GREGORIAN
METHOD:PUBLISH
X-WR-CALNAME:КДАіС
X-ORIGINAL-URL:https://kdais.kiev.ua/event/%d0%92%d1%96%d1%82%d0%b0%d0%bb%d1%8c%d0%bd%d0%b5-%d1%81%d0%bb%d0%be%d0%b2%d0%be-%d1%80%d0%b5%d0%ba%d1%82%d0%be%d1%80%d0%b0-%d0%9a%d0%94%d0%90-%d1%94%d0%bf%d0%b8%d1%81%d0%ba%d0%be%d0%bf%d0%b0-%d0%91/
X-WR-CALDESC:Вітальне слово ректора КДА єпископа Білогородського Сильвестра
BEGIN:VEVENT
DTSTART:20180907T203000
DTEND:20180909T203000
SUMMARY:Вітальне слово ректора КДА єпископа Білогородського Сильвестра
DESCRIPTION:Вітальне слово організаторам і учасникам XXVI Міжнародного симпозіуму з православної духовностів Бозе (Італія)
LOCATION:
END:VEVENT
END:VCALENDAR
