BEGIN:VCALENDAR
VERSION:2.0
PRODID:-//КДАіС
CALSCALE:GREGORIAN
METHOD:PUBLISH
X-WR-CALNAME:КДАіС
X-ORIGINAL-URL:https://kdais.kiev.ua/event/seat-2/
X-WR-CALDESC:Слово архімандрита Сильвестра (Стойчева) при нареченні у єпископа Білогородського
BEGIN:VEVENT
DTSTART:20171223T000000
DTEND:20171223T000000
SUMMARY:Слово архімандрита Сильвестра (Стойчева) при нареченні у єпископа Білогородського
DESCRIPTION:&nbsp;
LOCATION:Bentley Campus, Perth, WA
END:VEVENT
END:VCALENDAR
