BEGIN:VCALENDAR
VERSION:2.0
PRODID:-//КДАіС
CALSCALE:GREGORIAN
METHOD:PUBLISH
X-WR-CALNAME:КДАіС
X-ORIGINAL-URL:https://kdais.kiev.ua/event/%d0%9d%d0%be%d0%b2%d1%96-%d0%bd%d0%b0%d0%b4%d1%85%d0%be%d0%b4%d0%b6%d0%b5%d0%bd%d0%bd%d1%8f-%d0%b4%d0%be-%d0%a6%d0%b5%d1%80%d0%ba%d0%be%d0%b2%d0%bd%d0%be-%d0%b0%d1%80%d1%85%d0%b5%d0%be%d0%bb%d0%be/
X-WR-CALDESC:В Церковно-археологічний музей КДА передано антимінс, що належав прп. Іову Угольському
BEGIN:VEVENT
DTSTART:20190219T213000
DTEND:
SUMMARY:В Церковно-археологічний музей КДА передано антимінс, що належав прп. Іову Угольському
DESCRIPTION:До музею Київської духовної академії були передані цінні богослужбові речі, датовані ХIХ та XX століттями.
LOCATION:
END:VEVENT
END:VCALENDAR
