BEGIN:VCALENDAR
VERSION:2.0
PRODID:-//КДАіС
CALSCALE:GREGORIAN
METHOD:PUBLISH
X-WR-CALNAME:КДАіС
X-ORIGINAL-URL:https://kdais.kiev.ua/event/%d0%91%d0%be%d0%b3%d0%be%d1%81%d0%bb%d1%83%d0%b6%d1%96%d0%bd%d0%bd%d1%8f-%d1%83-%d1%81%d1%83%d0%b1%d0%be%d1%82%d1%83-%d0%b4%d1%80%d1%83%d0%b3%d0%be%d1%97-%d1%81%d0%b5%d0%b4%d0%bc%d0%b8%d1%86%d1%96/
X-WR-CALDESC:Богослужіння у суботу другої седмиці Великого посту
BEGIN:VEVENT
DTSTART:20190323T213000
DTEND:20190323T213000
SUMMARY:Богослужіння у суботу другої седмиці Великого посту
DESCRIPTION:Єпископ Білогородський Сильвестр очолив Божественну літургію і Парастас в Академічному храмі Різдва Божої Матері.
LOCATION:
END:VEVENT
END:VCALENDAR
