BEGIN:VCALENDAR
VERSION:2.0
PRODID:-//КДАіС
CALSCALE:GREGORIAN
METHOD:PUBLISH
X-WR-CALNAME:КДАіС
X-ORIGINAL-URL:https://kdais.kiev.ua/event/%d0%96%d0%b8%d1%82%d1%96%d1%94-%d1%81%d0%b2%d1%8f%d1%89%d0%b5%d0%bd%d0%bd%d0%be%d0%bc%d1%83%d1%87%d0%b5%d0%bd%d0%b8%d0%ba%d0%b0-%d0%9e%d0%bb%d0%b5%d0%ba%d1%81%d0%b0%d0%bd%d0%b4%d1%80%d0%b0-%d0%93/
X-WR-CALDESC:Житіє, тропар та кондак священномученику Олександру Глаголєву пресвітеру (+1937)
BEGIN:VEVENT
DTSTART:20190728T203000
DTEND:20190728T203000
SUMMARY:Житіє, тропар та кондак священномученику Олександру Глаголєву пресвітеру (+1937)
DESCRIPTION:Професор Київської духовної академії священномученик Олександр Глаголєв пресвітер причислений до лику місцешанованих святих Київської єпархії з внесенням до Собору святих КДА на засіданні Священного Синоду Української Православної Церкви 3 квітня 2019 року.
LOCATION:
END:VEVENT
END:VCALENDAR
