BEGIN:VCALENDAR
VERSION:2.0
PRODID:-//КДАіС
CALSCALE:GREGORIAN
METHOD:PUBLISH
X-WR-CALNAME:КДАіС
X-ORIGINAL-URL:https://kdais.kiev.ua/event/%d0%92%d1%96%d0%b4%d1%96%d0%b9%d1%88%d0%be%d0%b2-%d0%b4%d0%be-%d0%93%d0%be%d1%81%d0%bf%d0%be%d0%b4%d0%b0-%d0%bf%d1%80%d0%be%d1%82%d0%be%d1%96%d1%94%d1%80%d0%b5%d0%b9-%d0%9e%d0%bb%d0%b5%d0%ba%d1%81/
X-WR-CALDESC:Відійшов до Господа протоієрей Олександр Кубеліус, в.о. обов’язки ректора КДАіС у 1992-1993 рр.
BEGIN:VEVENT
DTSTART:20190410T203000
DTEND:20190410T203000
SUMMARY:Відійшов до Господа протоієрей Олександр Кубеліус, в.о. обов’язки ректора КДАіС у 1992-1993 рр.
DESCRIPTION:Протоієрей Олександр Анатолійович Кубеліус був викладачем Київських духовних шкіл у 1989-1993 рр. та виконуючим обов’язки ректора Київської духовної академії і семінарії у 1992-1993 рр. Помер о. Олександр 10 квітня 2019 року після тривалої хвороби.
LOCATION:
END:VEVENT
END:VCALENDAR
