BEGIN:VCALENDAR
VERSION:2.0
PRODID:-//КДАіС
CALSCALE:GREGORIAN
METHOD:PUBLISH
X-WR-CALNAME:КДАіС
X-ORIGINAL-URL:https://kdais.kiev.ua/event/%d0%a1%d0%bb%d1%83%d0%b6%d1%96%d0%bd%d0%bd%d1%8f-%d1%80%d0%b5%d0%ba%d1%82%d0%be%d1%80%d0%b0-%d0%a1%d0%b5%d1%80%d0%b5%d0%b4%d0%b0-%d0%bf%d1%8f%d1%82%d0%be%d1%97-%d1%81%d0%b5%d0%b4%d0%bc%d0%b8/
X-WR-CALDESC:Служіння ректора. Середа п’ятої седмиці Великого посту
BEGIN:VEVENT
DTSTART:20190410T203000
DTEND:
SUMMARY:Служіння ректора. Середа п’ятої седмиці Великого посту
DESCRIPTION:Єпископ Білогородський Сильвестр звершив Божественну літургію в храмі на честь святителя Михаїла Київського, що при Олександрівській лікарні м. Києва.
LOCATION:
END:VEVENT
END:VCALENDAR
