BEGIN:VCALENDAR
VERSION:2.0
PRODID:-//КДАіС
CALSCALE:GREGORIAN
METHOD:PUBLISH
X-WR-CALNAME:КДАіС
X-ORIGINAL-URL:https://kdais.kiev.ua/event/%d0%9e-%d1%82%d1%80%d0%b5%d1%85-%d1%81%d0%b2%d1%8f%d1%82%d1%8b%d1%85-%d1%80%d0%b5%d0%ba%d1%82%d0%be%d1%80%d0%b0%d1%85-%d0%bd%d1%8b%d0%bd%d0%b5%d1%88%d0%bd%d0%b8%d0%b9-%d0%b3%d0%bb%d0%b0/
X-WR-CALDESC:Інтерв&#8217;ю ректора сайту &#8220;ФОМА в Украине&#8221;: &#8220;О трех святых ректорах — нынешний глава КДА&#8221;
BEGIN:VEVENT
DTSTART:20190411T203000
DTEND:20190411T203000
SUMMARY:Інтерв&#8217;ю ректора сайту &#8220;ФОМА в Украине&#8221;: &#8220;О трех святых ректорах — нынешний глава КДА&#8221;
DESCRIPTION:О святых предшественниках и их примере жизни сайту «ФОМА в Украине» рассказал ректор Киевских духовных школ епископ Белогородский Сильвестр.
LOCATION:
END:VEVENT
END:VCALENDAR
