BEGIN:VCALENDAR
VERSION:2.0
PRODID:-//КДАіС
CALSCALE:GREGORIAN
METHOD:PUBLISH
X-WR-CALNAME:КДАіС
X-ORIGINAL-URL:https://kdais.kiev.ua/event/%d1%80%d0%b5%d0%ba%d1%82%d0%be%d1%80-%d0%ba%d0%b8%d1%97%d0%b2%d1%81%d1%8c%d0%ba%d0%b8%d1%85-%d0%b4%d1%83%d1%85%d0%be%d0%b2%d0%bd%d0%b8%d1%85-%d1%88%d0%ba%d1%96%d0%bb-%d0%bf%d1%80%d0%b8%d0%b7%d0%bd/
X-WR-CALDESC:Ректор Академії призначений керуючим Південно-східним вікаріатством м.Києва
BEGIN:VEVENT
DTSTART:20180105T003000
DTEND:20180106T000000
SUMMARY:Ректор Академії призначений керуючим Південно-східним вікаріатством м.Києва
DESCRIPTION:Редакція сайту від щирого серця вітає владику Ректора з новим призначенням!
LOCATION:
END:VEVENT
END:VCALENDAR
