BEGIN:VCALENDAR
VERSION:2.0
PRODID:-//КДАіС
CALSCALE:GREGORIAN
METHOD:PUBLISH
X-WR-CALNAME:КДАіС
X-ORIGINAL-URL:https://kdais.kiev.ua/event/%d0%a0%d0%b5%d0%ba%d1%82%d0%be%d1%80-%d0%9a%d0%94%d0%90%d1%96%d0%a1-%d0%b2%d0%b7%d1%8f%d0%b2-%d1%83%d1%87%d0%b0%d1%81%d1%82%d1%8c-%d1%83-%d1%81%d0%b2%d1%8f%d1%82%d0%ba%d1%83%d0%b2%d0%b0%d0%bd%d0%bd-2/
X-WR-CALDESC:Ректор КДАіС взяв участь у святкуваннях у Тульчинській єпархії
BEGIN:VEVENT
DTSTART:20190512T203000
DTEND:20190512T203000
SUMMARY:Ректор КДАіС взяв участь у святкуваннях у Тульчинській єпархії
DESCRIPTION:У Неділю 3-тю після Пасхи, Жінок-мироносиць, єпископ Білогородський Сильвестр співслужив Предстоятелю Української Православної Церкви за богослужінням у кафедральному соборі на честь Різдва Христового м. Тульчин.
LOCATION:
END:VEVENT
END:VCALENDAR
