BEGIN:VCALENDAR
VERSION:2.0
PRODID:-//КДАіС
CALSCALE:GREGORIAN
METHOD:PUBLISH
X-WR-CALNAME:КДАіС
X-ORIGINAL-URL:https://kdais.kiev.ua/event/%d0%a5%d0%be%d1%80-%d0%9a%d0%94%d0%90%d1%96%d0%a1-%d0%b2%d0%b7%d1%8f%d0%b2-%d1%83%d1%87%d0%b0%d1%81%d1%82%d1%8c-%d1%83-%d0%b2%d0%b5%d0%bb%d0%b8%d0%ba%d0%be%d0%bc%d1%83-%d0%be%d1%81%d0%b2%d1%8f%d1%87/
X-WR-CALDESC:Хор КДАіС взяв участь у великому освяченні храму Всіх святих у Страсбурзі (Франція)
BEGIN:VEVENT
DTSTART:20190526T203000
DTEND:20190526T203000
SUMMARY:Хор КДАіС взяв участь у великому освяченні храму Всіх святих у Страсбурзі (Франція)
DESCRIPTION:На запрошення настоятеля храму архімандрита Филипа (Рябих) та з благословення ректора КДАіС єпископа Білогородського Сильвестра, академічний хор під управлінням архімандрита Леонтія (Тупкала) взяв участь у освяченні храму у Франції.
LOCATION:
END:VEVENT
END:VCALENDAR
