BEGIN:VCALENDAR
VERSION:2.0
PRODID:-//КДАіС
CALSCALE:GREGORIAN
METHOD:PUBLISH
X-WR-CALNAME:КДАіС
X-ORIGINAL-URL:https://kdais.kiev.ua/event/%d0%a0%d0%b5%d0%ba%d1%82%d0%be%d1%80-%d0%9a%d0%94%d0%90%d1%96%d0%a1-%d0%bf%d1%80%d0%be%d0%b2%d1%96%d0%b2-%d0%b7%d1%83%d1%81%d1%82%d1%80%d1%96%d1%87-%d0%b7-%d0%b0%d1%80%d1%85%d1%96%d1%94%d0%bf%d0%b8/
X-WR-CALDESC:Ректор КДАіС провів зустріч з архієпископом Чиказьким і Середньо-Американським Петром
BEGIN:VEVENT
DTSTART:20190531T203000
DTEND:20190531T203000
SUMMARY:Ректор КДАіС провів зустріч з архієпископом Чиказьким і Середньо-Американським Петром
DESCRIPTION:Під час зустрічі були обговорені питання щодо співпраці Київських духовних шкіл та Чиказького духовного училища.
LOCATION:
END:VEVENT
END:VCALENDAR
