BEGIN:VCALENDAR
VERSION:2.0
PRODID:-//КДАіС
CALSCALE:GREGORIAN
METHOD:PUBLISH
X-WR-CALNAME:КДАіС
X-ORIGINAL-URL:https://kdais.kiev.ua/event/%d0%92%d0%b8%d0%b9%d1%88%d0%be%d0%b2-%d0%b7-%d0%b4%d1%80%d1%83%d0%ba%d1%83-%d0%bd%d0%be%d0%b2%d0%b8%d0%b9-%d0%bd%d0%be%d0%bc%d0%b5%d1%80-%d1%81%d1%82%d1%83%d0%b4%d0%b5%d0%bd%d1%82%d1%81%d1%8c%d0%ba/
X-WR-CALDESC:Вийшов з друку новий номер студентського журналу «Академический Летописец»
BEGIN:VEVENT
DTSTART:20190607T203000
DTEND:20190607T203000
SUMMARY:Вийшов з друку новий номер студентського журналу «Академический Летописец»
DESCRIPTION:Тема номеру: «Геніальність і святість: точки дотику». У випуску студенти та вихованці Київських духовних шкіл розмірковують про таланти та геніальність, а також про інші актуальні виклики суспільства і богослов’я. 
LOCATION:
END:VEVENT
END:VCALENDAR
