BEGIN:VCALENDAR
VERSION:2.0
PRODID:-//КДАіС
CALSCALE:GREGORIAN
METHOD:PUBLISH
X-WR-CALNAME:КДАіС
X-ORIGINAL-URL:https://kdais.kiev.ua/event/%d0%92%d0%b8%d0%b9%d1%88%d0%be%d0%b2-%d0%b7-%d0%b4%d1%80%d1%83%d0%ba%d1%83-30-%d0%b9-%d0%b2%d0%b8%d0%bf%d1%83%d1%81%d0%ba-%d1%87%d0%b0%d1%81%d0%be%d0%bf%d0%b8%d1%81%d1%83-%d0%a2%d1%80%d1%83/
X-WR-CALDESC:Вийшов з друку 30-й випуск часопису «Труди Київської Духовної Академії»
BEGIN:VEVENT
DTSTART:20190610T203000
DTEND:20190610T203000
SUMMARY:Вийшов з друку 30-й випуск часопису «Труди Київської Духовної Академії»
DESCRIPTION:Журнал висвітлює основні події наукового життя Київських духовних шкіл, є майданчиком для публікацій професорів, доцентів і викладачів КДА, а також представників інших церковних і світських навчальних закладів і науково-дослідних установ.
LOCATION:
END:VEVENT
END:VCALENDAR
