BEGIN:VCALENDAR
VERSION:2.0
PRODID:-//КДАіС
CALSCALE:GREGORIAN
METHOD:PUBLISH
X-WR-CALNAME:КДАіС
X-ORIGINAL-URL:https://kdais.kiev.ua/event/%d0%92%d1%81%d0%b5%d0%bd%d1%96%d1%87%d0%bd%d0%b5-%d0%b1%d0%b4%d1%96%d0%bd%d0%bd%d1%8f-%d0%bd%d0%b0%d0%bf%d0%b5%d1%80%d0%b5%d0%b4%d0%be%d0%b4%d0%bd%d1%96-%d0%9d%d0%b5%d0%b4%d1%96%d0%bb%d1%96-2-%d1%97-2/
X-WR-CALDESC:Всенічне бдіння напередодні Неділі 2-ї після П’ятидесятниці, Всіх святих, що в землі Руській просіяли
BEGIN:VEVENT
DTSTART:20190629T203000
DTEND:20190629T203000
SUMMARY:Всенічне бдіння напередодні Неділі 2-ї після П’ятидесятниці, Всіх святих, що в землі Руській просіяли
DESCRIPTION:Керуючий справами УПЦ митрополит Бориспільський і Броварський Антоній та ректор КДАіС єпископ Білогородський Сильвестр звершили Всенічне бдіння в Успенському соборі Києво-Печерської Лаври.
LOCATION:
END:VEVENT
END:VCALENDAR
