BEGIN:VCALENDAR
VERSION:2.0
PRODID:-//КДАіС
CALSCALE:GREGORIAN
METHOD:PUBLISH
X-WR-CALNAME:КДАіС
X-ORIGINAL-URL:https://kdais.kiev.ua/event/%d0%91%d0%be%d0%b3%d0%be%d1%81%d0%bb%d1%83%d0%b6%d1%96%d0%bd%d0%bd%d1%8f-%d1%83-%d0%9d%d0%b5%d0%b4%d1%96%d0%bb%d1%8e-4-%d1%82%d1%83-%d0%bf%d1%96%d1%81%d0%bb%d1%8f-%d0%9f%d1%8f%d1%82%d0%b8/
X-WR-CALDESC:Богослужіння у Неділю 4-ту після П’ятидесятниці
BEGIN:VEVENT
DTSTART:20190714T203000
DTEND:20190714T203000
SUMMARY:Богослужіння у Неділю 4-ту після П’ятидесятниці
DESCRIPTION:Єпископ Білогородський Сильвестр взяв участь у соборному богослужінні в Успенському соборі Свято-Успенської Києво-Печерської Лаври.
LOCATION:
END:VEVENT
END:VCALENDAR
