BEGIN:VCALENDAR
VERSION:2.0
PRODID:-//КДАіС
CALSCALE:GREGORIAN
METHOD:PUBLISH
X-WR-CALNAME:КДАіС
X-ORIGINAL-URL:https://kdais.kiev.ua/event/%d0%92%d1%96%d1%82%d0%b0%d1%94%d0%bc%d0%be-%d0%b2%d0%b8%d0%ba%d0%bb%d0%b0%d0%b4%d0%b0%d1%87%d0%b0-%d0%9a%d0%94%d0%90%d1%96%d0%a1-%d0%b0%d1%80%d1%85%d1%96%d0%bc%d0%b0%d0%bd%d0%b4%d1%80%d0%b8%d1%82/
X-WR-CALDESC:Вітаємо викладача КДАіС архімандрита Феофана (Меджидова) з Днем народження!
BEGIN:VEVENT
DTSTART:20190715T203000
DTEND:20190715T203000
SUMMARY:Вітаємо викладача КДАіС архімандрита Феофана (Меджидова) з Днем народження!
DESCRIPTION:У цей святковий день молитовно бажаємо, щоб Всемилостивий Господь дарував Вам бадьорість духу, мир, терпіння, міцне здоров’я і довголіття для плідного священицького служіння та викладацької діяльності.
LOCATION:
END:VEVENT
END:VCALENDAR
