BEGIN:VCALENDAR
VERSION:2.0
PRODID:-//КДАіС
CALSCALE:GREGORIAN
METHOD:PUBLISH
X-WR-CALNAME:КДАіС
X-ORIGINAL-URL:https://kdais.kiev.ua/event/%d0%9a%d0%b8%d1%97%d0%b2%d1%81%d1%8c%d0%ba%d1%96-%d0%b4%d1%83%d1%85%d0%be%d0%b2%d0%bd%d1%96-%d1%88%d0%ba%d0%be%d0%bb%d0%b8-%d0%b2%d0%b7%d1%8f%d0%bb%d0%b8-%d1%83%d1%87%d0%b0%d1%81%d1%82%d1%8c-%d1%83-2/
X-WR-CALDESC:Київські духовні школи взяли участь у святкуваннях з нагоди 1031-ї річниці Хрещення Київської Русі
BEGIN:VEVENT
DTSTART:20190728T203000
DTEND:20190728T203000
SUMMARY:Київські духовні школи взяли участь у святкуваннях з нагоди 1031-ї річниці Хрещення Київської Русі
DESCRIPTION:На площі перед Успенським собором Свято-Успенської Києво-Печерської Лаври була звершена урочиста Божественна літургія, яку очолив Блаженніший Митрополит Київський і всієї України Онуфрій.
LOCATION:
END:VEVENT
END:VCALENDAR
