BEGIN:VCALENDAR
VERSION:2.0
PRODID:-//КДАіС
CALSCALE:GREGORIAN
METHOD:PUBLISH
X-WR-CALNAME:КДАіС
X-ORIGINAL-URL:https://kdais.kiev.ua/event/%d0%94%d0%b5%d0%bd%d1%8c-%d0%bf%d0%b5%d1%80%d0%b5%d0%bd%d0%b5%d1%81%d0%b5%d0%bd%d0%bd%d1%8f-%d0%bc%d0%be%d1%89%d0%b5%d0%b9-%d0%bf%d1%80%d0%b5%d0%bf%d0%be%d0%b4%d0%be%d0%b1%d0%bd%d0%be%d0%b3%d0%be/
X-WR-CALDESC:День перенесення мощей преподобного Феодосія, ігумена Печерського (1091)
BEGIN:VEVENT
DTSTART:20190827T203000
DTEND:20190827T203000
SUMMARY:День перенесення мощей преподобного Феодосія, ігумена Печерського (1091)
DESCRIPTION:З нагоди свята ректор Київських духовних шкіл єпископ Білогородський Сильвестр взяв участь у Божественній літургії в Успенському соборі Києво-Печерської Лаври.
LOCATION:
END:VEVENT
END:VCALENDAR
