BEGIN:VCALENDAR
VERSION:2.0
PRODID:-//КДАіС
CALSCALE:GREGORIAN
METHOD:PUBLISH
X-WR-CALNAME:КДАіС
X-ORIGINAL-URL:https://kdais.kiev.ua/event/%d0%a0%d0%b5%d0%ba%d1%82%d0%be%d1%80-%d0%9a%d0%94%d0%90%d1%96%d0%a1-%d0%bc%d0%be%d0%bb%d0%b8%d0%b2%d1%81%d1%8f-%d0%b7%d0%b0-%d0%b1%d0%be%d0%b3%d0%be%d1%81%d0%bb%d1%83%d0%b6%d1%96%d0%bd%d0%bd%d1%8f/
X-WR-CALDESC:Ректор КДАіС молився за богослужінням з чином погребіння Плащаниці Богородиці (+відео)
BEGIN:VEVENT
DTSTART:20190828T203000
DTEND:20190828T203000
SUMMARY:Ректор КДАіС молився за богослужінням з чином погребіння Плащаниці Богородиці (+відео)
DESCRIPTION:Богослужіння очолив Предстоятель Української Православної Церкви Блаженніший Митрополит Київський і всієї України Онуфрій.
LOCATION:
END:VEVENT
END:VCALENDAR
