BEGIN:VCALENDAR
VERSION:2.0
PRODID:-//КДАіС
CALSCALE:GREGORIAN
METHOD:PUBLISH
X-WR-CALNAME:КДАіС
X-ORIGINAL-URL:https://kdais.kiev.ua/event/%d0%9d%d0%b0%d0%bf%d0%b5%d1%80%d0%b5%d0%b4%d0%be%d0%b4%d0%bd%d1%96-%d0%9d%d0%b5%d0%b4%d1%96%d0%bb%d1%96-11-%d1%97-%d0%bf%d1%96%d1%81%d0%bb%d1%8f-%d0%9f%d1%8f%d1%82%d0%b8%d0%b4%d0%b5%d1%81/
X-WR-CALDESC:Напередодні Неділі 11-ї після П’ятидесятниці ректор, адміністрація та викладачі Київських духовних шкіл молились за Всенічним бдінням в Києво-Печерській Лаврі
BEGIN:VEVENT
DTSTART:20190831T203000
DTEND:20190831T203000
SUMMARY:Напередодні Неділі 11-ї після П’ятидесятниці ректор, адміністрація та викладачі Київських духовних шкіл молились за Всенічним бдінням в Києво-Печерській Лаврі
DESCRIPTION:Богослужіння очолив Предстоятель Української Православної Церкви Блаженніший Митрополит Київський і всієї України Онуфрій.
LOCATION:
END:VEVENT
END:VCALENDAR
