BEGIN:VCALENDAR
VERSION:2.0
PRODID:-//КДАіС
CALSCALE:GREGORIAN
METHOD:PUBLISH
X-WR-CALNAME:КДАіС
X-ORIGINAL-URL:https://kdais.kiev.ua/event/%d0%a3-%d0%b4%d0%b5%d0%bd%d1%8c-%d1%81%d0%b2%d1%8f%d1%82%d0%ba%d1%83%d0%b2%d0%b0%d0%bd%d0%bd%d1%8f-%d0%a1%d0%be%d0%b1%d0%be%d1%80%d1%83-%d0%bf%d1%80%d0%b5%d0%bf%d0%be%d0%b4%d0%be%d0%b1%d0%bd%d0%b8/
X-WR-CALDESC:У день святкування Собору преподобних отців, які у Дальніх печерах спочивають, єпископ Білогородський Сильвестр взяв участь у Божественній літургії у Києво-Печерській Лаврі
BEGIN:VEVENT
DTSTART:20190910T203000
DTEND:20190910T203000
SUMMARY:У день святкування Собору преподобних отців, які у Дальніх печерах спочивають, єпископ Білогородський Сильвестр взяв участь у Божественній літургії у Києво-Печерській Лаврі
DESCRIPTION:Ректор Київських духовних шкіл співслужив Блаженнішому Митрополиту Київському і всієї України Онуфрію за богослужінням в Успенському соборі Лаври.
LOCATION:
END:VEVENT
END:VCALENDAR
