BEGIN:VCALENDAR
VERSION:2.0
PRODID:-//КДАіС
CALSCALE:GREGORIAN
METHOD:PUBLISH
X-WR-CALNAME:КДАіС
X-ORIGINAL-URL:https://kdais.kiev.ua/event/%d0%92%d0%b8%d1%85%d0%be%d0%b2%d0%b0%d0%bd%d1%86%d1%96-2%d0%90-%d0%ba%d0%bb%d0%b0%d1%81%d1%83-%d0%9a%d0%b8%d1%97%d0%b2%d1%81%d1%8c%d0%ba%d0%be%d1%97-%d0%b4%d1%83%d1%85%d0%be%d0%b2%d0%bd%d0%be%d1%97/
X-WR-CALDESC:Вихованці 2А класу Київської духовної семінарії звершили паломництво до святинь м. Одеси
BEGIN:VEVENT
DTSTART:20190912T203000
DTEND:20190912T203000
SUMMARY:Вихованці 2А класу Київської духовної семінарії звершили паломництво до святинь м. Одеси
DESCRIPTION:З благословення ректора Київських духовних шкіл єпископа Білогородського Сильвестра, паломництво відбулось 10-11 вересня 2019 року.
LOCATION:
END:VEVENT
END:VCALENDAR
