BEGIN:VCALENDAR
VERSION:2.0
PRODID:-//КДАіС
CALSCALE:GREGORIAN
METHOD:PUBLISH
X-WR-CALNAME:КДАіС
X-ORIGINAL-URL:https://kdais.kiev.ua/event/%d0%94%d0%b5%d0%bd%d1%8c-%d0%bf%d0%b0%d0%bc%d1%8f%d1%82%d1%96-%d1%81%d0%b2%d1%8f%d1%82%d0%be%d0%b3%d0%be-%d0%b1%d0%bb%d0%b0%d0%b3%d0%be%d0%b2%d1%96%d1%80%d0%bd%d0%be%d0%b3%d0%be-%d0%ba%d0%bd/
X-WR-CALDESC:День пам’яті святого благовірного князя Олександра Невського
BEGIN:VEVENT
DTSTART:20190913T103000
DTEND:20190913T153000
SUMMARY:День пам’яті святого благовірного князя Олександра Невського
DESCRIPTION:З нагоди престольного свята єпископ Білогородський Сильвестр звершив Божественну літургію в храмі на честь благовірного князя Олександра, що у Дарницькому районі.
LOCATION:
END:VEVENT
END:VCALENDAR
