BEGIN:VCALENDAR
VERSION:2.0
PRODID:-//КДАіС
CALSCALE:GREGORIAN
METHOD:PUBLISH
X-WR-CALNAME:КДАіС
X-ORIGINAL-URL:https://kdais.kiev.ua/event/%d0%92%d0%b8%d1%85%d0%be%d0%b2%d0%b0%d0%bd%d1%86%d1%96-1-%d0%b3%d0%be-%d0%ba%d0%bb%d0%b0%d1%81%d1%83-%d0%a1%d0%b5%d0%bc%d1%96%d0%bd%d0%b0%d1%80%d1%96%d1%97-%d0%b2%d1%96%d0%b4%d0%b2%d1%96%d0%b4%d0%b0-5/
X-WR-CALDESC:Вихованці 1-го класу Семінарії відвідали унікальну пам’ятку архітектури ХI-ХІІ століття — церкву Спаса на Берестові
BEGIN:VEVENT
DTSTART:20191018T203000
DTEND:20191018T203000
SUMMARY:Вихованці 1-го класу Семінарії відвідали унікальну пам’ятку архітектури ХI-ХІІ століття — церкву Спаса на Берестові
DESCRIPTION:Семінаристи були ознайомлені з історією храму, який являється живим свідком трудів свт. Петра Могили, некрополем, а також з унікальними настінними розписами.
LOCATION:
END:VEVENT
END:VCALENDAR
