BEGIN:VCALENDAR
VERSION:2.0
PRODID:-//КДАіС
CALSCALE:GREGORIAN
METHOD:PUBLISH
X-WR-CALNAME:КДАіС
X-ORIGINAL-URL:https://kdais.kiev.ua/event/%d0%92%d0%b8%d1%85%d0%be%d0%b2%d0%b0%d0%bd%d1%86%d1%96-%d0%a1%d0%b5%d0%bc%d1%96%d0%bd%d0%b0%d1%80%d1%96%d1%97-%d0%b7%d1%83%d1%81%d1%82%d1%80%d1%96%d0%bb%d0%b8%d1%81%d1%8c-%d0%b7-%d0%b4%d1%83%d1%85/
X-WR-CALDESC:Вихованці Семінарії зустрілись з духівниками православних громад нечуючих України та Білорусії
BEGIN:VEVENT
DTSTART:20191018T203000
DTEND:20191018T203000
SUMMARY:Вихованці Семінарії зустрілись з духівниками православних громад нечуючих України та Білорусії
DESCRIPTION:Під час зустрічі семінаристи дізнались про досвід пастирської опіки нечуючих в Україні та Білорусії.
LOCATION:
END:VEVENT
END:VCALENDAR
