BEGIN:VCALENDAR
VERSION:2.0
PRODID:-//КДАіС
CALSCALE:GREGORIAN
METHOD:PUBLISH
X-WR-CALNAME:КДАіС
X-ORIGINAL-URL:https://kdais.kiev.ua/event/%d0%92%d0%b8%d1%85%d0%be%d0%b2%d0%b0%d0%bd%d1%86%d1%96-1-%d0%b3%d0%be-%d0%ba%d0%bb%d0%b0%d1%81%d1%83-%d0%9a%d0%b8%d1%97%d0%b2%d1%81%d1%8c%d0%ba%d0%be%d1%97-%d0%b4%d1%83%d1%85%d0%be%d0%b2%d0%bd%d0%be/
X-WR-CALDESC:Вихованці 1-го класу Київської духовної семінарії відвідали відомі чернечі обителі та храми м. Києва
BEGIN:VEVENT
DTSTART:20191021T203000
DTEND:20191021T203000
SUMMARY:Вихованці 1-го класу Київської духовної семінарії відвідали відомі чернечі обителі та храми м. Києва
DESCRIPTION:Паломники відвідали монастирі у Церковщині, Китаївській пустині, Феофанії, Іллінський храм на Подолі та Свято-Покровський жіночий монастир.
LOCATION:
END:VEVENT
END:VCALENDAR
