BEGIN:VCALENDAR
VERSION:2.0
PRODID:-//КДАіС
CALSCALE:GREGORIAN
METHOD:PUBLISH
X-WR-CALNAME:КДАіС
X-ORIGINAL-URL:https://kdais.kiev.ua/event/%d0%94%d0%be-30-%d0%bb%d1%96%d1%82%d1%82%d1%8f-%d0%b2%d1%96%d0%b4%d1%80%d0%be%d0%b4%d0%b6%d0%b5%d0%bd%d0%bd%d1%8f-%d0%9a%d0%94%d0%90%d1%96%d0%a1-%d0%b2%d1%96%d0%b4%d0%ba%d1%80%d0%b8%d0%bb%d0%b0%d1%81/
X-WR-CALDESC:До 30-ліття відродження КДАіС відкрилась виставка святим новопрославленим ректорам Академії
BEGIN:VEVENT
DTSTART:20191022T203000
DTEND:20191022T203000
SUMMARY:До 30-ліття відродження КДАіС відкрилась виставка святим новопрославленим ректорам Академії
DESCRIPTION:Відкриття виставки відбулось в Церковно-археологічному музеї Київської духовної академії.
LOCATION:
END:VEVENT
END:VCALENDAR
