BEGIN:VCALENDAR
VERSION:2.0
PRODID:-//КДАіС
CALSCALE:GREGORIAN
METHOD:PUBLISH
X-WR-CALNAME:КДАіС
X-ORIGINAL-URL:https://kdais.kiev.ua/event/%d0%92%d1%96%d1%82%d0%b0%d0%bb%d1%8c%d0%bd%d0%b5-%d1%81%d0%bb%d0%be%d0%b2%d0%be-%d1%80%d0%b5%d0%ba%d1%82%d0%be%d1%80%d0%b0-%d0%9a%d0%94%d0%90%d1%96%d0%a1-%d1%83%d1%87%d0%b0%d1%81%d0%bd%d0%b8%d0%ba/
X-WR-CALDESC:Вітальне слово ректора КДАіС учасникам Міжнародної конференції у Харкові
BEGIN:VEVENT
DTSTART:20191105T213000
DTEND:20191105T213000
SUMMARY:Вітальне слово ректора КДАіС учасникам Міжнародної конференції у Харкові
DESCRIPTION:Організаторам та учасникам ІІI Міжнародної науково-практичної конференції «Актуальні питання богослов’я та історії Церкви», присвяченої 220-річчю створення Харківської єпархії, що пройшла 5 листопада 2019 року в Харківській духовній семінарії.
LOCATION:
END:VEVENT
END:VCALENDAR
