BEGIN:VCALENDAR
VERSION:2.0
PRODID:-//КДАіС
CALSCALE:GREGORIAN
METHOD:PUBLISH
X-WR-CALNAME:КДАіС
X-ORIGINAL-URL:https://kdais.kiev.ua/event/%d0%92-%d0%9a%d0%b8%d1%97%d0%b2%d1%81%d1%8c%d0%ba%d0%b8%d1%85-%d0%b4%d1%83%d1%85%d0%be%d0%b2%d0%bd%d0%b8%d1%85-%d1%88%d0%ba%d0%be%d0%bb%d0%b0%d1%85-%d0%b2%d1%96%d0%b4%d0%b1%d1%83%d0%b2%d1%81%d1%8f-15/
X-WR-CALDESC:В Київських духовних школах відбувся урочистий річний Акт, присвячений 200-річчю КДА та 30-річчю відродження Київських духовних шкіл (+відео)
BEGIN:VEVENT
DTSTART:20191109T213000
DTEND:20191109T213000
SUMMARY:В Київських духовних школах відбувся урочистий річний Акт, присвячений 200-річчю КДА та 30-річчю відродження Київських духовних шкіл (+відео)
DESCRIPTION:Урочистості з нагоди Актового дня Київської духовної академії і семінарії очолив Блаженніший Митрополит Київський і всієї України Онуфрій.
LOCATION:
END:VEVENT
END:VCALENDAR
