BEGIN:VCALENDAR
VERSION:2.0
PRODID:-//КДАіС
CALSCALE:GREGORIAN
METHOD:PUBLISH
X-WR-CALNAME:КДАіС
X-ORIGINAL-URL:https://kdais.kiev.ua/event/%d0%97%d0%b0%d1%81%d1%96%d0%b4%d0%b0%d0%bd%d0%bd%d1%8f-%d0%ba%d0%b0%d1%84%d0%b5%d0%b4%d1%80%d0%b8-%d1%86%d0%b5%d1%80%d0%ba%d0%be%d0%b2%d0%bd%d0%be-%d0%bf%d1%80%d0%b0%d0%ba%d1%82%d0%b8%d1%87%d0%bd/
X-WR-CALDESC:Засідання кафедри церковно-практичних дисциплін відбулось в КДАіС
BEGIN:VEVENT
DTSTART:20191114T213000
DTEND:20191114T213000
SUMMARY:Засідання кафедри церковно-практичних дисциплін відбулось в КДАіС
DESCRIPTION:Під час засідання були розглянуті теми випускних кандидатських, дипломних, магістерських та бакалаврських робіт для студентів денного та заочного відділень, а також заслухані звіти вихованців 4-го класу Семінарії.
LOCATION:
END:VEVENT
END:VCALENDAR
