BEGIN:VCALENDAR
VERSION:2.0
PRODID:-//КДАіС
CALSCALE:GREGORIAN
METHOD:PUBLISH
X-WR-CALNAME:КДАіС
X-ORIGINAL-URL:https://kdais.kiev.ua/event/%d0%9f%d1%80%d0%b8%d1%85%d0%be%d0%b6%d0%b0%d0%bd%d0%b8-%d0%90%d0%ba%d0%b0%d0%b4%d0%b5%d0%bc%d1%96%d1%87%d0%bd%d0%be%d0%b3%d0%be-%d1%85%d1%80%d0%b0%d0%bc%d1%83-%d0%bd%d0%b0-%d1%87%d0%b5%d1%81%d1%82/
X-WR-CALDESC:Парафіяни Академічного храму на честь Різдва Пресвятої Богородиці відвідали святині Ніжинської єпархії
BEGIN:VEVENT
DTSTART:20191116T213000
DTEND:20191116T213000
SUMMARY:Парафіяни Академічного храму на честь Різдва Пресвятої Богородиці відвідали святині Ніжинської єпархії
DESCRIPTION:Паломницька поїздка відбулась з благословення ректора Київської духовної академії і семінарії єпископа Білогородського Сильвестра.
LOCATION:
END:VEVENT
END:VCALENDAR
