BEGIN:VCALENDAR
VERSION:2.0
PRODID:-//КДАіС
CALSCALE:GREGORIAN
METHOD:PUBLISH
X-WR-CALNAME:КДАіС
X-ORIGINAL-URL:https://kdais.kiev.ua/event/%d0%92%d1%96%d1%82%d0%b0%d1%94%d0%bc%d0%be-%d0%b4%d0%be%d1%86%d0%b5%d0%bd%d1%82%d0%b0-%d0%9a%d0%94%d0%90-%d1%94%d0%bf%d0%b8%d1%81%d0%ba%d0%be%d0%bf%d0%b0-%d0%91%d0%b0%d1%80%d0%b8%d1%88%d1%96%d0%b2-2/
X-WR-CALDESC:Вітаємо доцента КДА єпископа Баришівського Віктора з Днем Ангела!
BEGIN:VEVENT
DTSTART:20191124T213000
DTEND:20191124T213000
SUMMARY:Вітаємо доцента КДА єпископа Баришівського Віктора з Днем Ангела!
DESCRIPTION:Київські духовні школи щиро вітають Вас з днем пам'яті святого мученика Віктора.
LOCATION:
END:VEVENT
END:VCALENDAR
