BEGIN:VCALENDAR
VERSION:2.0
PRODID:-//КДАіС
CALSCALE:GREGORIAN
METHOD:PUBLISH
X-WR-CALNAME:КДАіС
X-ORIGINAL-URL:https://kdais.kiev.ua/event/%d0%92%d1%96%d1%82%d0%b0%d1%94%d0%bc%d0%be-%d0%bf%d1%80%d0%be%d1%84%d0%b5%d1%81%d0%be%d1%80%d0%b0-%d0%bc%d0%b8%d1%82%d1%80%d0%be%d0%bf%d0%be%d0%bb%d0%b8%d1%82%d0%b0-%d0%9d%d1%96%d0%b6%d0%b8%d0%bd/
X-WR-CALDESC:Вітаємо професора митрополита Ніжинського і Прилуцького Климента з Днем Ангела!
BEGIN:VEVENT
DTSTART:20191208T213000
DTEND:20191208T213000
SUMMARY:Вітаємо професора митрополита Ніжинського і Прилуцького Климента з Днем Ангела!
DESCRIPTION:Київські духовні школи щиро вітають Вас з днем пам'яті священномученика Климента, папи Римського.
LOCATION:
END:VEVENT
END:VCALENDAR
