BEGIN:VCALENDAR
VERSION:2.0
PRODID:-//КДАіС
CALSCALE:GREGORIAN
METHOD:PUBLISH
X-WR-CALNAME:КДАіС
X-ORIGINAL-URL:https://kdais.kiev.ua/event/%d0%a0%d0%b5%d0%ba%d1%82%d0%be%d1%80-%d0%9a%d0%94%d0%90%d1%96%d0%a1-%d0%bf%d1%80%d0%b8%d0%b2%d1%96%d1%82%d0%b0%d0%b2-%d0%bf%d1%80%d0%be%d1%84%d0%b5%d1%81%d0%be%d1%80%d0%b0-%d0%9a%d0%94%d0%90-%d0%bc/
X-WR-CALDESC:Ректор КДАіС привітав професора КДА митрополита Ніжинського і Прилуцького Климента з Днем Ангела
BEGIN:VEVENT
DTSTART:20191208T213000
DTEND:20191208T213000
SUMMARY:Ректор КДАіС привітав професора КДА митрополита Ніжинського і Прилуцького Климента з Днем Ангела
DESCRIPTION:Божественна літургія була звершена у Свято-Миколаївському кафедральному соборі м. Ніжина.
LOCATION:
END:VEVENT
END:VCALENDAR
