BEGIN:VCALENDAR
VERSION:2.0
PRODID:-//КДАіС
CALSCALE:GREGORIAN
METHOD:PUBLISH
X-WR-CALNAME:КДАіС
X-ORIGINAL-URL:https://kdais.kiev.ua/event/%d0%a1%d1%83%d0%b1%d0%be%d1%82%d0%b0-%d0%bf%d0%b5%d1%80%d1%88%d0%be%d1%97-%d1%81%d0%b5%d0%b4%d0%bc%d0%b8%d1%86%d1%96-%d0%92%d0%b5%d0%bb%d0%b8%d0%ba%d0%be%d0%b3%d0%be-%d0%bf%d0%be%d1%81%d1%82%d1%83/
X-WR-CALDESC:Субота першої седмиці Великого посту. Пам&#8217;ять вмч. Феодора Тирона
BEGIN:VEVENT
DTSTART:20180224T213000
DTEND:20180224T213000
SUMMARY:Субота першої седмиці Великого посту. Пам&#8217;ять вмч. Феодора Тирона
DESCRIPTION:Цього дня, за традицією, студенти і вихованці Київських духовних шкіл причастились Святих Христових Таїн.
LOCATION:
END:VEVENT
END:VCALENDAR
