BEGIN:VCALENDAR
VERSION:2.0
PRODID:-//КДАіС
CALSCALE:GREGORIAN
METHOD:PUBLISH
X-WR-CALNAME:КДАіС
X-ORIGINAL-URL:https://kdais.kiev.ua/event/%d0%92%d1%81%d0%b5%d0%bd%d1%96%d1%87%d0%bd%d0%b5-%d0%b1%d0%b4%d1%96%d0%bd%d0%bd%d1%8f-%d0%bd%d0%b0%d0%bf%d0%b5%d1%80%d0%b5%d0%b4%d0%be%d0%b4%d0%bd%d1%96-%d1%81%d0%b2%d1%8f%d1%82%d0%b0-%d0%9e%d0%b1/
X-WR-CALDESC:Всенічне бдіння напередодні свята Обрізання Господнього та дня пам’яті свт. Василія Великого
BEGIN:VEVENT
DTSTART:20200113T213000
DTEND:20200113T213000
SUMMARY:Всенічне бдіння напередодні свята Обрізання Господнього та дня пам’яті свт. Василія Великого
DESCRIPTION:Ректор КДАіС звершив богослужіння в храмі на честь Вознесіння Христового, що на Деміївці, з нагоди малого престольного свята храму.
LOCATION:
END:VEVENT
END:VCALENDAR
