BEGIN:VCALENDAR
VERSION:2.0
PRODID:-//КДАіС
CALSCALE:GREGORIAN
METHOD:PUBLISH
X-WR-CALNAME:КДАіС
X-ORIGINAL-URL:https://kdais.kiev.ua/event/%d0%92%d0%b8%d1%85%d0%be%d0%b2%d0%b0%d0%bd%d1%86%d1%96-%d0%a1%d0%b5%d0%bc%d1%96%d0%bd%d0%b0%d1%80%d1%96%d1%97-%d0%b2%d0%b7%d1%8f%d0%bb%d0%b8-%d1%83%d1%87%d0%b0%d1%81%d1%82%d1%8c-%d1%83-%d1%81%d0%b2-2/
X-WR-CALDESC:Вихованці Семінарії взяли участь у святкуванні престольного свята Мінської громади людей з вадами слуху
BEGIN:VEVENT
DTSTART:20200113T213000
DTEND:20200113T213000
SUMMARY:Вихованці Семінарії взяли участь у святкуванні престольного свята Мінської громади людей з вадами слуху
DESCRIPTION:З благословення ректора КДАіС єпископа Білогородського Сильвестра вихованці 2-го класу КДС разом з викладачкою жестової мови К.О. Дятловою взяли участь у святкуваннях у столиці Білорусі.
LOCATION:
END:VEVENT
END:VCALENDAR
