BEGIN:VCALENDAR
VERSION:2.0
PRODID:-//КДАіС
CALSCALE:GREGORIAN
METHOD:PUBLISH
X-WR-CALNAME:КДАіС
X-ORIGINAL-URL:https://kdais.kiev.ua/event/%d0%92%d1%96%d0%b4%d0%b1%d1%83%d0%bb%d0%be%d1%81%d1%8c-%d0%b2%d1%96%d0%b4%d0%ba%d1%80%d0%b8%d1%82%d1%82%d1%8f-%d0%9c%d1%96%d0%b6%d0%bd%d0%b0%d1%80%d0%be%d0%b4%d0%bd%d0%be%d1%97-%d0%bd%d0%b0%d1%83/
X-WR-CALDESC:Відбулось відкриття Міжнародної наукової конференції «Церква мучеників: гоніння на віру та Церкву в ХХ столітті» (+відео)
BEGIN:VEVENT
DTSTART:20200206T213000
DTEND:20200206T213000
SUMMARY:Відбулось відкриття Міжнародної наукової конференції «Церква мучеників: гоніння на віру та Церкву в ХХ столітті» (+відео)
DESCRIPTION:Пленарне засідання пройшло в Актовій залі Свято-Успенської Києво-Печерської Лаври (корпус №45).
LOCATION:
END:VEVENT
END:VCALENDAR
