BEGIN:VCALENDAR
VERSION:2.0
PRODID:-//КДАіС
CALSCALE:GREGORIAN
METHOD:PUBLISH
X-WR-CALNAME:КДАіС
X-ORIGINAL-URL:https://kdais.kiev.ua/event/%d0%9d%d0%b5%d0%b4%d1%96%d0%bb%d1%8f-%d0%b4%d1%80%d1%83%d0%b3%d0%b0-%d0%92%d0%b5%d0%bb%d0%b8%d0%ba%d0%be%d0%b3%d0%be-%d0%bf%d0%be%d1%81%d1%82%d1%83-%d0%a1%d0%be%d0%b1%d0%be%d1%80-%d0%bf%d1%80%d0%b5/
X-WR-CALDESC:Неділя друга Великого посту. Собор преподобних отців Києво-Печерських
BEGIN:VEVENT
DTSTART:20180304T213000
DTEND:20180304T213000
SUMMARY:Неділя друга Великого посту. Собор преподобних отців Києво-Печерських
DESCRIPTION:Богослужіння в Києво-Печерській Лаврі очолив Блаженніший Митрополит Київський і всієї України Онуфрій.
LOCATION:
END:VEVENT
END:VCALENDAR
