BEGIN:VCALENDAR
VERSION:2.0
PRODID:-//КДАіС
CALSCALE:GREGORIAN
METHOD:PUBLISH
X-WR-CALNAME:КДАіС
X-ORIGINAL-URL:https://kdais.kiev.ua/event/%d0%a5%d0%be%d1%80-%d0%9a%d0%94%d0%90%d1%96%d0%a1-%d0%bf%d0%be%d1%81%d1%96%d0%b2-%d0%b4%d1%80%d1%83%d0%b3%d0%b5-%d0%bc%d1%96%d1%81%d1%86%d0%b5-%d1%83-%d0%9c%d1%96%d0%b6%d0%bd%d0%b0%d1%80%d0%be%d0%b4/
X-WR-CALDESC:Хор КДАіС посів друге місце на Міжнародному православному фестивалі православних піснеспівів у Білорусі
BEGIN:VEVENT
DTSTART:20200223T213000
DTEND:20200223T213000
SUMMARY:Хор КДАіС посів друге місце на Міжнародному православному фестивалі православних піснеспівів у Білорусі
DESCRIPTION:Фестиваль проходив у м. Гродно під егідою Гродненської єпархії Білоруської Православної Церкви 19-22 лютого 2020 року.
LOCATION:
END:VEVENT
END:VCALENDAR
